BEGIN:VCALENDAR
VERSION:2.0
PRODID:-//Diego Ventura - ECPv4.1.3//NONSGML v1.0//EN
CALSCALE:GREGORIAN
METHOD:PUBLISH
X-WR-CALNAME:Diego Ventura
X-ORIGINAL-URL:https://www.diegoventura.com
X-WR-CALDESC:Events for Diego Ventura
BEGIN:VEVENT
DTSTART;VALUE=DATE:20141005
DTEND;VALUE=DATE:20141005
DTSTAMP:20260420T082657
CREATED:20140912
LAST-MODIFIED:20140912
UID:8097-1412467200-1412553599@www.diegoventura.com
SUMMARY:Zafra (Badajoz)
DESCRIPTION:Pablo Hermoso de Mendoza\, Diego Ventura y Andrés Romero. Toros de Fermín Bohórquez
URL:https://www.diegoventura.com/event/zafra-badajoz/
LOCATION:Ctra. de Fregena\, Zafra (Badajoz)\, 06300\, España
CATEGORIES:Temporada 2014
END:VEVENT
END:VCALENDAR