BEGIN:VCALENDAR
VERSION:2.0
PRODID:-//Diego Ventura - ECPv4.1.3//NONSGML v1.0//EN
CALSCALE:GREGORIAN
METHOD:PUBLISH
X-WR-CALNAME:Diego Ventura
X-ORIGINAL-URL:https://www.diegoventura.com
X-WR-CALDESC:Events for Diego Ventura
BEGIN:VEVENT
DTSTART;VALUE=DATE:20130824
DTEND;VALUE=DATE:20130824
DTSTAMP:20260421T005617
CREATED:20130805
LAST-MODIFIED:20130805
UID:1706-1377302400-1377388799@www.diegoventura.com
SUMMARY:Villanueva del Fresno
DESCRIPTION:Diego Ventura\, Andrés Romero y Francisco Palha. Toros de Zalduendo
URL:https://www.diegoventura.com/event/villanueva-del-fresno/
LOCATION:Villanueva del Fresno\, Badajoz\, España
CATEGORIES:Temporada 2013
END:VEVENT
END:VCALENDAR