BEGIN:VCALENDAR
VERSION:2.0
PRODID:-//Diego Ventura - ECPv4.1.3//NONSGML v1.0//EN
CALSCALE:GREGORIAN
METHOD:PUBLISH
X-WR-CALNAME:Diego Ventura
X-ORIGINAL-URL:https://www.diegoventura.com
X-WR-CALDESC:Events for Diego Ventura
BEGIN:VEVENT
DTSTART;VALUE=DATE:20130925
DTEND;VALUE=DATE:20130925
DTSTAMP:20260420T221327
CREATED:20130806
LAST-MODIFIED:20130806
UID:1779-1380067200-1380153599@www.diegoventura.com
SUMMARY:Vera 
DESCRIPTION:Diego Ventura y dos por designar
URL:https://www.diegoventura.com/event/vera/
LOCATION:Vera\, Almería\, España
CATEGORIES:Temporada 2013
END:VEVENT
END:VCALENDAR