BEGIN:VCALENDAR
VERSION:2.0
PRODID:-//Diego Ventura - ECPv4.1.3//NONSGML v1.0//EN
CALSCALE:GREGORIAN
METHOD:PUBLISH
X-WR-CALNAME:Diego Ventura
X-ORIGINAL-URL:https://www.diegoventura.com
X-WR-CALDESC:Events for Diego Ventura
BEGIN:VEVENT
DTSTART;VALUE=DATE:20140914
DTEND;VALUE=DATE:20140914
DTSTAMP:20260420T112327
CREATED:20140730
LAST-MODIFIED:20140807
UID:5701-1410652800-1410739199@www.diegoventura.com
SUMMARY:Valladolid
DESCRIPTION:Pablo Hermoso de Mendoza\, Diego Ventura y Francisco Palha. Toros de Passanha
URL:https://www.diegoventura.com/event/valladolid-2/
LOCATION:Paseo Zorrilla\, 49\, Valladolid\, 47007\, España
CATEGORIES:Temporada 2014
END:VEVENT
END:VCALENDAR