BEGIN:VCALENDAR
VERSION:2.0
PRODID:-//Diego Ventura - ECPv4.1.3//NONSGML v1.0//EN
CALSCALE:GREGORIAN
METHOD:PUBLISH
X-WR-CALNAME:Diego Ventura
X-ORIGINAL-URL:https://www.diegoventura.com
X-WR-CALDESC:Events for Diego Ventura
BEGIN:VEVENT
DTSTART;VALUE=DATE:20130815
DTEND;VALUE=DATE:20130815
DTSTAMP:20260421T021549
CREATED:20130805
LAST-MODIFIED:20130805
UID:1696-1376524800-1376611199@www.diegoventura.com
SUMMARY:Sotogrande
DESCRIPTION:Fermín Bohórquez\, Diego Ventura y Leonardo Hernández. Toros de Bohórquez
URL:https://www.diegoventura.com/event/sotogrande/
LOCATION:Sotogrande
CATEGORIES:Temporada 2013
END:VEVENT
END:VCALENDAR