BEGIN:VCALENDAR
VERSION:2.0
PRODID:-//Diego Ventura - ECPv4.1.3//NONSGML v1.0//EN
CALSCALE:GREGORIAN
METHOD:PUBLISH
X-WR-CALNAME:Diego Ventura
X-ORIGINAL-URL:https://www.diegoventura.com
X-WR-CALDESC:Events for Diego Ventura
BEGIN:VEVENT
DTSTART;TZID=Europe/Madrid:20140511T183000
DTEND;TZID=Europe/Madrid:20140511T210000
DTSTAMP:20260420T163047
CREATED:20140422T100357
LAST-MODIFIED:20140422T100449
UID:4622-1399833000-1399842000@www.diegoventura.com
SUMMARY:Sevilla
DESCRIPTION:Rui Fernandes\, Diego Ventura y Luis Valdenebro. Toros de Capea
URL:https://www.diegoventura.com/event/sevilla-2/
LOCATION:Paseo Colón 12\, Sevilla\, Sevilla\, 41001\, España
CATEGORIES:Temporada 2014
END:VEVENT
END:VCALENDAR