BEGIN:VCALENDAR
VERSION:2.0
PRODID:-//Diego Ventura - ECPv4.1.3//NONSGML v1.0//EN
CALSCALE:GREGORIAN
METHOD:PUBLISH
X-WR-CALNAME:Diego Ventura
X-ORIGINAL-URL:https://www.diegoventura.com
X-WR-CALDESC:Events for Diego Ventura
BEGIN:VEVENT
DTSTART;VALUE=DATE:20140921
DTEND;VALUE=DATE:20140921
DTSTAMP:20260420T095520
CREATED:20140807
LAST-MODIFIED:20140807
UID:6004-1411257600-1411343999@www.diegoventura.com
SUMMARY:Salamanca
DESCRIPTION:Andy Cartagena\, Diego Ventura y Joao Moura (hijo). Toros de Ángel Sánchez
URL:https://www.diegoventura.com/event/salamanca-2/
LOCATION:Avda. San Agustín\, 1\, Salamanca\, 37005\, España
CATEGORIES:Temporada 2014
END:VEVENT
END:VCALENDAR