BEGIN:VCALENDAR
VERSION:2.0
PRODID:-//Diego Ventura - ECPv4.1.3//NONSGML v1.0//EN
CALSCALE:GREGORIAN
METHOD:PUBLISH
X-WR-CALNAME:Diego Ventura
X-ORIGINAL-URL:https://www.diegoventura.com
X-WR-CALDESC:Events for Diego Ventura
BEGIN:VEVENT
DTSTART;VALUE=DATE:20130901
DTEND;VALUE=DATE:20130901
DTSTAMP:20260420T233358
CREATED:20130806
LAST-MODIFIED:20130806
UID:1760-1377993600-1378079999@www.diegoventura.com
SUMMARY:Priego de Córdoba
DESCRIPTION: Diego Ventura\, El Cordobés y otro.
URL:https://www.diegoventura.com/event/priego-de-cordoba/
LOCATION:Priego de Córdoba\, Córdoba\, España
CATEGORIES:Temporada 2013
END:VEVENT
END:VCALENDAR