BEGIN:VCALENDAR
VERSION:2.0
PRODID:-//Diego Ventura - ECPv4.1.3//NONSGML v1.0//EN
CALSCALE:GREGORIAN
METHOD:PUBLISH
X-WR-CALNAME:Diego Ventura
X-ORIGINAL-URL:https://www.diegoventura.com
X-WR-CALDESC:Events for Diego Ventura
BEGIN:VEVENT
DTSTART;VALUE=DATE:20140831
DTEND;VALUE=DATE:20140831
DTSTAMP:20260420T130858
CREATED:20140807
LAST-MODIFIED:20140807
UID:5997-1409443200-1409529599@www.diegoventura.com
SUMMARY:Priego de Córdoba (Córdoba)
DESCRIPTION:Finito de Córdoba\, El Fandi y Diego Ventura. Toros de Zalduendo
URL:https://www.diegoventura.com/event/priego-de-cordoba-cordoba/
LOCATION:Avda. de España\, s/n\, Priego de Córdoba (Córdoba)\, 14800\, España
CATEGORIES:Temporada 2014
END:VEVENT
END:VCALENDAR