BEGIN:VCALENDAR
VERSION:2.0
PRODID:-//Diego Ventura - ECPv4.1.3//NONSGML v1.0//EN
CALSCALE:GREGORIAN
METHOD:PUBLISH
X-WR-CALNAME:Diego Ventura
X-ORIGINAL-URL:https://www.diegoventura.com
X-WR-CALDESC:Events for Diego Ventura
BEGIN:VEVENT
DTSTART;VALUE=DATE:20140809
DTEND;VALUE=DATE:20140809
DTSTAMP:20260420T163215
CREATED:20140730
LAST-MODIFIED:20140730
UID:5685-1407542400-1407628799@www.diegoventura.com
SUMMARY:Pontevedra
DESCRIPTION:Andy Cartagena\, Diego Ventura y Joao Moura. Toros de San Mateo
URL:https://www.diegoventura.com/event/pontevedra-2/
LOCATION:Pontevedra\, Pontevedra\, España
CATEGORIES:Temporada 2014
END:VEVENT
END:VCALENDAR