BEGIN:VCALENDAR
VERSION:2.0
PRODID:-//Diego Ventura - ECPv4.1.3//NONSGML v1.0//EN
CALSCALE:GREGORIAN
METHOD:PUBLISH
X-WR-CALNAME:Diego Ventura
X-ORIGINAL-URL:https://www.diegoventura.com
X-WR-CALDESC:Events for Diego Ventura
BEGIN:VEVENT
DTSTART;TZID=Europe/Madrid:20240303T163000
DTEND;TZID=Europe/Madrid:20240303T190000
DTSTAMP:20260424T030919
CREATED:20240209T222430
LAST-MODIFIED:20240302T193431
UID:31587-1709483400-1709492400@www.diegoventura.com
SUMMARY:PESAGUERO
DESCRIPTION:\n\nToros de LOS ESPARTALES y TORREALBA\n\nDIEGO VENTURA\n\nEL FANDI\n\nROMÁN
URL:https://www.diegoventura.com/event/pesaguero/
END:VEVENT
END:VCALENDAR