BEGIN:VCALENDAR
VERSION:2.0
PRODID:-//Diego Ventura - ECPv4.1.3//NONSGML v1.0//EN
CALSCALE:GREGORIAN
METHOD:PUBLISH
X-WR-CALNAME:Diego Ventura
X-ORIGINAL-URL:https://www.diegoventura.com
X-WR-CALDESC:Events for Diego Ventura
BEGIN:VEVENT
DTSTART;VALUE=DATE:20130914
DTEND;VALUE=DATE:20130914
DTSTAMP:20260420T221347
CREATED:20130806
LAST-MODIFIED:20130806
UID:1771-1379116800-1379203199@www.diegoventura.com
SUMMARY:Nimes
DESCRIPTION:Paco Ojeda\, Diego Ventura y Lea Vicens\, que toma la alternativa. Toros de Fermín Bohórquez
URL:https://www.diegoventura.com/event/nimes/
LOCATION:Nimes\, Francia
END:VEVENT
END:VCALENDAR