BEGIN:VCALENDAR
VERSION:2.0
PRODID:-//Diego Ventura - ECPv4.1.3//NONSGML v1.0//EN
CALSCALE:GREGORIAN
METHOD:PUBLISH
X-WR-CALNAME:Diego Ventura
X-ORIGINAL-URL:https://www.diegoventura.com
X-WR-CALDESC:Events for Diego Ventura
BEGIN:VEVENT
DTSTART;VALUE=DATE:20140909
DTEND;VALUE=DATE:20140909
DTSTAMP:20260420T124042
CREATED:20140807
LAST-MODIFIED:20140807
UID:5999-1410220800-1410307199@www.diegoventura.com
SUMMARY:Navalcarnero (Madrid)
DESCRIPTION:Miguel Abellán y Diego Ventura\, mano a mano. Toros de Ángel Sánchez
URL:https://www.diegoventura.com/event/navalcarnero-madrid/
LOCATION:Plaza Segovia\, 1\, Navalcarnero (Madrid)\, 28600\, España
CATEGORIES:Temporada 2014
END:VEVENT
END:VCALENDAR