BEGIN:VCALENDAR
VERSION:2.0
PRODID:-//Diego Ventura - ECPv4.1.3//NONSGML v1.0//EN
CALSCALE:GREGORIAN
METHOD:PUBLISH
X-WR-CALNAME:Diego Ventura
X-ORIGINAL-URL:https://www.diegoventura.com
X-WR-CALDESC:Events for Diego Ventura
BEGIN:VEVENT
DTSTART;VALUE=DATE:20140517
DTEND;VALUE=DATE:20140517
DTSTAMP:20260420T162928
CREATED:20140422
LAST-MODIFIED:20140422
UID:4624-1400284800-1400371199@www.diegoventura.com
SUMMARY:Madrid 
DESCRIPTION:Diego Ventura\, Leonardo Hernández y Andrés Romero (confirma la alternativa). Toros de Bohórquez
URL:https://www.diegoventura.com/event/madrid/
LOCATION:Madrid\, Madrid\, España
CATEGORIES:Temporada 2014
END:VEVENT
END:VCALENDAR