BEGIN:VCALENDAR
VERSION:2.0
PRODID:-//Diego Ventura - ECPv4.1.3//NONSGML v1.0//EN
CALSCALE:GREGORIAN
METHOD:PUBLISH
X-WR-CALNAME:Diego Ventura
X-ORIGINAL-URL:https://www.diegoventura.com
X-WR-CALDESC:Events for Diego Ventura
BEGIN:VEVENT
DTSTART;TZID=Europe/Madrid:20200125T170000
DTEND;TZID=Europe/Madrid:20200125T193000
DTSTAMP:20260421T061156
CREATED:20191230T012527
LAST-MODIFIED:20191230T013059
UID:25844-1579971600-1579980600@www.diegoventura.com
SUMMARY:LEÓN
DESCRIPTION:\n\nToros de ZACATEPEC y VILLA CARMELA\n\nDIEGO VENTURA\n\nEL PAYO\n\nDIEGO SILVETI
URL:https://www.diegoventura.com/event/leon-2/
END:VEVENT
END:VCALENDAR