BEGIN:VCALENDAR
VERSION:2.0
PRODID:-//Diego Ventura - ECPv4.1.3//NONSGML v1.0//EN
CALSCALE:GREGORIAN
METHOD:PUBLISH
X-WR-CALNAME:Diego Ventura
X-ORIGINAL-URL:https://www.diegoventura.com
X-WR-CALDESC:Events for Diego Ventura
BEGIN:VEVENT
DTSTART;TZID=Europe/Madrid:20211017T173000
DTEND;TZID=Europe/Madrid:20211017T200000
DTSTAMP:20260422T005547
CREATED:20210918T213706
LAST-MODIFIED:20210918T213706
UID:27091-1634491800-1634500800@www.diegoventura.com
SUMMARY:JAÉN
DESCRIPTION:\n\nToros de ADOLFO MARTÍN\n\nDIEGO VENTURA\n\nLEONARDO HERNÁNDEZ
URL:https://www.diegoventura.com/event/jaen-5/
END:VEVENT
END:VCALENDAR