BEGIN:VCALENDAR
VERSION:2.0
PRODID:-//Diego Ventura - ECPv4.1.3//NONSGML v1.0//EN
CALSCALE:GREGORIAN
METHOD:PUBLISH
X-WR-CALNAME:Diego Ventura
X-ORIGINAL-URL:https://www.diegoventura.com
X-WR-CALDESC:Events for Diego Ventura
BEGIN:VEVENT
DTSTART;VALUE=DATE:20140803
DTEND;VALUE=DATE:20140803
DTSTAMP:20260420T163057
CREATED:20140730
LAST-MODIFIED:20140730
UID:5684-1407024000-1407110399@www.diegoventura.com
SUMMARY:Huelva 
DESCRIPTION:Diego Ventura y Andrés Romero mano a mano. Toros de Sampedro
URL:https://www.diegoventura.com/event/huelva-2/
LOCATION:Avda. Cristóbal Colón\, 2\, Huelva\, Huelva\,  21002\, España
CATEGORIES:Temporada 2014
END:VEVENT
END:VCALENDAR