BEGIN:VCALENDAR
VERSION:2.0
PRODID:-//Diego Ventura - ECPv4.1.3//NONSGML v1.0//EN
CALSCALE:GREGORIAN
METHOD:PUBLISH
X-WR-CALNAME:Diego Ventura
X-ORIGINAL-URL:https://www.diegoventura.com
X-WR-CALDESC:Events for Diego Ventura
BEGIN:VEVENT
DTSTART;VALUE=DATE:20130913
DTEND;VALUE=DATE:20130913
DTSTAMP:20260420T233444
CREATED:20130806
LAST-MODIFIED:20130806
UID:1770-1379030400-1379116799@www.diegoventura.com
SUMMARY:Guadalajara
DESCRIPTION:Diego Ventura y dos por designar
URL:https://www.diegoventura.com/event/guadalajara/
CATEGORIES:Temporada 2013
END:VEVENT
END:VCALENDAR