BEGIN:VCALENDAR
VERSION:2.0
PRODID:-//Diego Ventura - ECPv4.1.3//NONSGML v1.0//EN
CALSCALE:GREGORIAN
METHOD:PUBLISH
X-WR-CALNAME:Diego Ventura
X-ORIGINAL-URL:https://www.diegoventura.com
X-WR-CALDESC:Events for Diego Ventura
BEGIN:VEVENT
DTSTART;VALUE=DATE:20130812
DTEND;VALUE=DATE:20130812
DTSTAMP:20260421T021957
CREATED:20130805
LAST-MODIFIED:20130805
UID:1693-1376265600-1376351999@www.diegoventura.com
SUMMARY:Gijón
DESCRIPTION:Toros de Capea para Diego Ventura\, Enrique Ponce y Sebastián Castella.
URL:https://www.diegoventura.com/event/gijon/
LOCATION:Gijón
CATEGORIES:Temporada 2013
END:VEVENT
END:VCALENDAR