BEGIN:VCALENDAR
VERSION:2.0
PRODID:-//Diego Ventura - ECPv4.1.3//NONSGML v1.0//EN
CALSCALE:GREGORIAN
METHOD:PUBLISH
X-WR-CALNAME:Diego Ventura
X-ORIGINAL-URL:https://www.diegoventura.com
X-WR-CALDESC:Events for Diego Ventura
BEGIN:VEVENT
DTSTART;VALUE=DATE:20140813
DTEND;VALUE=DATE:20140813
DTSTAMP:20260420T151520
CREATED:20140730
LAST-MODIFIED:20140730
UID:5686-1407888000-1407974399@www.diegoventura.com
SUMMARY:Gijón
DESCRIPTION:Diego Ventura\, Miguel A. Perera y Talavante. Toros de Capea
URL:https://www.diegoventura.com/event/gijon-2/
LOCATION:Carretera de Villaviciosa\, 0 \, Gijón \, 33201 \, España
CATEGORIES:Temporada 2014
END:VEVENT
END:VCALENDAR