BEGIN:VCALENDAR
VERSION:2.0
PRODID:-//Diego Ventura - ECPv4.1.3//NONSGML v1.0//EN
CALSCALE:GREGORIAN
METHOD:PUBLISH
X-WR-CALNAME:Diego Ventura
X-ORIGINAL-URL:https://www.diegoventura.com
X-WR-CALDESC:Events for Diego Ventura
BEGIN:VEVENT
DTSTART;VALUE=DATE:20140322
DTEND;VALUE=DATE:20140322
DTSTAMP:20260420T192553
CREATED:20140129
LAST-MODIFIED:20140129
UID:3996-1395446400-1395532799@www.diegoventura.com
SUMMARY: Festival para El Chano.
DESCRIPTION:Diego Ventura\, Enrique Ponce\, El Juli\, José María Manzanares\, Miguel Ángel Perera y Alejandro Talavante y el novillero Álvaro Lorenzo
URL:https://www.diegoventura.com/event/festival-para-el-chano/
LOCATION:Madrid\, Madrid\, España
CATEGORIES:Temporada 2014
END:VEVENT
END:VCALENDAR