BEGIN:VCALENDAR
VERSION:2.0
PRODID:-//Diego Ventura - ECPv4.1.3//NONSGML v1.0//EN
CALSCALE:GREGORIAN
METHOD:PUBLISH
X-WR-CALNAME:Diego Ventura
X-ORIGINAL-URL:https://www.diegoventura.com
X-WR-CALDESC:Events for Diego Ventura
BEGIN:VEVENT
DTSTART;TZID=Europe/Madrid:20200201T173000
DTEND;TZID=Europe/Madrid:20200201T200000
DTSTAMP:20260421T043627
CREATED:20191230T012038
LAST-MODIFIED:20191230T012059
UID:25842-1580578200-1580587200@www.diegoventura.com
SUMMARY:ENCARNACIÓN DE DÍAZ\, JALISCO
DESCRIPTION:\n\nToros de BEGOÑA\n\nDIEGO VENTURA\n\nANTONIO FERRERA\n\nLUIS DAVID ADAME\n\nLEO VALADEZ
URL:https://www.diegoventura.com/event/encarnacion-de-diaz-jalisco/
END:VEVENT
END:VCALENDAR