BEGIN:VCALENDAR
VERSION:2.0
PRODID:-//Diego Ventura - ECPv4.1.3//NONSGML v1.0//EN
CALSCALE:GREGORIAN
METHOD:PUBLISH
X-WR-CALNAME:Diego Ventura
X-ORIGINAL-URL:https://www.diegoventura.com
X-WR-CALDESC:Events for Diego Ventura
BEGIN:VEVENT
DTSTART;VALUE=DATE:20130828
DTEND;VALUE=DATE:20130828
DTSTAMP:20260420T232420
CREATED:20130805
LAST-MODIFIED:20130805
UID:1712-1377648000-1377734399@www.diegoventura.com
SUMMARY:Cuenca
DESCRIPTION: Hermoso de Mendoza\, Diego Ventura y Manuel Manzanares. Toros de Castilblanco\n
URL:https://www.diegoventura.com/event/cuenca/
LOCATION:Cuenca\, Cuenca\, España
CATEGORIES:Temporada 2013
END:VEVENT
END:VCALENDAR