BEGIN:VCALENDAR
VERSION:2.0
PRODID:-//Diego Ventura - ECPv4.1.3//NONSGML v1.0//EN
CALSCALE:GREGORIAN
METHOD:PUBLISH
X-WR-CALNAME:Diego Ventura
X-ORIGINAL-URL:https://www.diegoventura.com
X-WR-CALDESC:Events for Diego Ventura
BEGIN:VEVENT
DTSTART;VALUE=DATE:20140826
DTEND;VALUE=DATE:20140826
DTSTAMP:20260420T124543
CREATED:20140730
LAST-MODIFIED:20140730
UID:5698-1409011200-1409097599@www.diegoventura.com
SUMMARY:Cuenca
DESCRIPTION:Diego Ventura y Sergio Galán\, mano a mano. Toros de Pallarés
URL:https://www.diegoventura.com/event/cuenca-2/
LOCATION:Avenida Reyes Católicos s/n\, Cuenca\, 16004 \, España
CATEGORIES:Temporada 2014
END:VEVENT
END:VCALENDAR