BEGIN:VCALENDAR
VERSION:2.0
PRODID:-//Diego Ventura - ECPv4.1.3//NONSGML v1.0//EN
CALSCALE:GREGORIAN
METHOD:PUBLISH
X-WR-CALNAME:Diego Ventura
X-ORIGINAL-URL:https://www.diegoventura.com
X-WR-CALDESC:Events for Diego Ventura
BEGIN:VEVENT
DTSTART;VALUE=DATE:20140910
DTEND;VALUE=DATE:20140910
DTSTAMP:20260420T123743
CREATED:20140826
LAST-MODIFIED:20140826
UID:7171-1410307200-1410393599@www.diegoventura.com
SUMMARY:Cehegín (Murcia)
DESCRIPTION:Diego Ventura\, El Cid y Antonio Puerta -novillero-. Toros de Murube
URL:https://www.diegoventura.com/event/cehegin-murcia/
LOCATION:Calle Gran Capitán\, s/n\, Cehegín\, Murcia\, 30430\, España
CATEGORIES:Temporada 2014
END:VEVENT
END:VCALENDAR