BEGIN:VCALENDAR
VERSION:2.0
PRODID:-//Diego Ventura - ECPv4.1.3//NONSGML v1.0//EN
CALSCALE:GREGORIAN
METHOD:PUBLISH
X-WR-CALNAME:Diego Ventura
X-ORIGINAL-URL:https://www.diegoventura.com
X-WR-CALDESC:Events for Diego Ventura
BEGIN:VEVENT
DTSTART;VALUE=DATE:20140323
DTEND;VALUE=DATE:20140323
DTSTAMP:20260420T203934
CREATED:20140129
LAST-MODIFIED:20140129
UID:3998-1395532800-1395619199@www.diegoventura.com
SUMMARY:Castellón
DESCRIPTION:Andy Cartagena\, Diego Ventura y Leonardo Hernández. Toros de Los Espartales
URL:https://www.diegoventura.com/event/castellon/
LOCATION:Castellón\, Castellón\, España
CATEGORIES:Temporada 2014
END:VEVENT
END:VCALENDAR