BEGIN:VCALENDAR
VERSION:2.0
PRODID:-//Diego Ventura - ECPv4.1.3//NONSGML v1.0//EN
CALSCALE:GREGORIAN
METHOD:PUBLISH
X-WR-CALNAME:Diego Ventura
X-ORIGINAL-URL:https://www.diegoventura.com
X-WR-CALDESC:Events for Diego Ventura
BEGIN:VEVENT
DTSTART;VALUE=DATE:20140222
DTEND;VALUE=DATE:20140222
DTSTAMP:20260420T193246
CREATED:20140129
LAST-MODIFIED:20140129
UID:3994-1393027200-1393113599@www.diegoventura.com
SUMMARY:Candeleda (Ávila) Festival. 
DESCRIPTION:Diego Ventura\, Finito de Córdoba\, El Cid\, El Fandi y Daniel Luque.
URL:https://www.diegoventura.com/event/candeleda-avila-festival/
LOCATION:Candeleda\, Ávila\, España
CATEGORIES:Temporada 2014
END:VEVENT
END:VCALENDAR