BEGIN:VCALENDAR
VERSION:2.0
PRODID:-//Diego Ventura - ECPv4.1.3//NONSGML v1.0//EN
CALSCALE:GREGORIAN
METHOD:PUBLISH
X-WR-CALNAME:Diego Ventura
X-ORIGINAL-URL:https://www.diegoventura.com
X-WR-CALDESC:Events for Diego Ventura
BEGIN:VEVENT
DTSTART;VALUE=DATE:20140816
DTEND;VALUE=DATE:20140816
DTSTAMP:20260420T140303
CREATED:20140730
LAST-MODIFIED:20140730
UID:5690-1408147200-1408233599@www.diegoventura.com
SUMMARY:Bilbao
DESCRIPTION:Andy Cartagena\, Diego Ventura y Leonardo Hernández. Toros de Ángel Sánchez
URL:https://www.diegoventura.com/event/bilbao/
LOCATION:Calle de Pablo Picasso\, 13\, Bilbao\, Madrid\, 48012\, España
CATEGORIES:Temporada 2014
END:VEVENT
END:VCALENDAR