BEGIN:VCALENDAR
VERSION:2.0
PRODID:-//Diego Ventura - ECPv4.1.3//NONSGML v1.0//EN
CALSCALE:GREGORIAN
METHOD:PUBLISH
X-WR-CALNAME:Diego Ventura
X-ORIGINAL-URL:https://www.diegoventura.com
X-WR-CALDESC:Events for Diego Ventura
BEGIN:VEVENT
DTSTART;VALUE=DATE:20140912
DTEND;VALUE=DATE:20140912
DTSTAMP:20260420T112206
CREATED:20140826
LAST-MODIFIED:20140911
UID:7173-1410480000-1410566399@www.diegoventura.com
SUMMARY:Baza (Granada)
DESCRIPTION:El Juli\, Alejandro Talavante y Diego Ventura. Toros de Fernando Sampedro
URL:https://www.diegoventura.com/event/baza-granada/
LOCATION:Avda. de Cascamorras\, s/n\, Baza\, Granada\, 18800\, España
CATEGORIES:Temporada 2014
END:VEVENT
END:VCALENDAR