BEGIN:VCALENDAR
VERSION:2.0
PRODID:-//Diego Ventura - ECPv4.1.3//NONSGML v1.0//EN
CALSCALE:GREGORIAN
METHOD:PUBLISH
X-WR-CALNAME:Diego Ventura
X-ORIGINAL-URL:https://www.diegoventura.com
X-WR-CALDESC:Events for Diego Ventura
BEGIN:VEVENT
DTSTART;VALUE=DATE:20140421
DTEND;VALUE=DATE:20140421
DTSTAMP:20260420T175759
CREATED:20140422
LAST-MODIFIED:20140422
UID:4614-1398038400-1398124799@www.diegoventura.com
SUMMARY:Arles (Francia)
DESCRIPTION:Andy Cartagena\, Diego Ventura y Lea Vicens. Toros de Murube
URL:https://www.diegoventura.com/event/arles-francia/
LOCATION:Arles \, Arles\, Francia
CATEGORIES:Temporada 2014
END:VEVENT
END:VCALENDAR