BEGIN:VCALENDAR
VERSION:2.0
PRODID:-//Diego Ventura - ECPv4.1.3//NONSGML v1.0//EN
CALSCALE:GREGORIAN
METHOD:PUBLISH
X-WR-CALNAME:Diego Ventura
X-ORIGINAL-URL:https://www.diegoventura.com
X-WR-CALDESC:Events for Diego Ventura
BEGIN:VEVENT
DTSTART;VALUE=DATE:20140920
DTEND;VALUE=DATE:20140920
DTSTAMP:20260422T095925
CREATED:20140807
LAST-MODIFIED:20140807
UID:6003-1411171200-1411257599@www.diegoventura.com
SUMMARY:Aranda de Duero (Burgos)
DESCRIPTION:Diego Ventura y Leonardo Hernández. Toros de Ángel Sánchez
URL:https://www.diegoventura.com/event/aranda-de-duero-burgos/
LOCATION:Pza. Doctor Costales\, s/n\, Aranda de Duero (Burgos)\, 09400\, España
CATEGORIES:Temporada 2014
END:VEVENT
END:VCALENDAR