BEGIN:VCALENDAR
VERSION:2.0
PRODID:-//Diego Ventura - ECPv4.1.3//NONSGML v1.0//EN
CALSCALE:GREGORIAN
METHOD:PUBLISH
X-WR-CALNAME:Diego Ventura
X-ORIGINAL-URL:https://www.diegoventura.com
X-WR-CALDESC:Events for Diego Ventura
BEGIN:VEVENT
DTSTART;VALUE=DATE:20140916
DTEND;VALUE=DATE:20140916
DTSTAMP:20260420T112124
CREATED:20140807
LAST-MODIFIED:20140807
UID:6002-1410825600-1410911999@www.diegoventura.com
SUMMARY:Albacete
DESCRIPTION:Enrique Ponce\, Alejandro Talavante y Diego Ventura. Toros de Capea
URL:https://www.diegoventura.com/event/albacete-2/
LOCATION:C/ Feria\, 56\, Albacete\, 02005\, España
CATEGORIES:Temporada 2014
END:VEVENT
END:VCALENDAR